BEGIN:VCALENDAR
VERSION:2.0
PRODID:-//Rehkitzrettung Rhein-Neckar - ECPv6.15.20//NONSGML v1.0//EN
CALSCALE:GREGORIAN
METHOD:PUBLISH
X-ORIGINAL-URL:http://rehkitzrettung-rhein-neckar.de
X-WR-CALDESC:Veranstaltungen für Rehkitzrettung Rhein-Neckar
REFRESH-INTERVAL;VALUE=DURATION:PT1H
X-Robots-Tag:noindex
X-PUBLISHED-TTL:PT1H
BEGIN:VTIMEZONE
TZID:Europe/Berlin
BEGIN:DAYLIGHT
TZOFFSETFROM:+0100
TZOFFSETTO:+0200
TZNAME:CEST
DTSTART:20190331T010000
END:DAYLIGHT
BEGIN:STANDARD
TZOFFSETFROM:+0200
TZOFFSETTO:+0100
TZNAME:CET
DTSTART:20191027T010000
END:STANDARD
BEGIN:DAYLIGHT
TZOFFSETFROM:+0100
TZOFFSETTO:+0200
TZNAME:CEST
DTSTART:20200329T010000
END:DAYLIGHT
BEGIN:STANDARD
TZOFFSETFROM:+0200
TZOFFSETTO:+0100
TZNAME:CET
DTSTART:20201025T010000
END:STANDARD
BEGIN:DAYLIGHT
TZOFFSETFROM:+0100
TZOFFSETTO:+0200
TZNAME:CEST
DTSTART:20210328T010000
END:DAYLIGHT
BEGIN:STANDARD
TZOFFSETFROM:+0200
TZOFFSETTO:+0100
TZNAME:CET
DTSTART:20211031T010000
END:STANDARD
END:VTIMEZONE
BEGIN:VEVENT
DTSTART;TZID=Europe/Berlin:20200409T190000
DTEND;TZID=Europe/Berlin:20200409T220000
DTSTAMP:20260419T145645
CREATED:20200319T124451Z
LAST-MODIFIED:20200407T112947Z
UID:43-1586458800-1586469600@rehkitzrettung-rhein-neckar.de
SUMMARY:Gründung der Rehkitzrettung Rhein-Neckar e.V. - VERSCHOBEN
DESCRIPTION:Einladungstext muss noch eingefügt werden…
URL:http://rehkitzrettung-rhein-neckar.de/event/gruendung-der-rehkitzrettung-rhein-neckar-e-v/
LOCATION:„Alte Küferei“ bei Fam. Steffen\, Haupstrasse 18\, Gaiberg\, 69251\, Deutschland
ATTACH;FMTTYPE=image/png:http://rehkitzrettung-rhein-neckar.de/wp-content/uploads/2020/03/transparent.png
END:VEVENT
END:VCALENDAR