BEGIN:VCALENDAR
VERSION:2.0
PRODID:-//Rehkitzrettung Rhein-Neckar - ECPv6.15.20//NONSGML v1.0//EN
CALSCALE:GREGORIAN
METHOD:PUBLISH
X-WR-CALNAME:Rehkitzrettung Rhein-Neckar
X-ORIGINAL-URL:http://rehkitzrettung-rhein-neckar.de
X-WR-CALDESC:Veranstaltungen für Rehkitzrettung Rhein-Neckar
REFRESH-INTERVAL;VALUE=DURATION:PT1H
X-Robots-Tag:noindex
X-PUBLISHED-TTL:PT1H
BEGIN:VTIMEZONE
TZID:Europe/Berlin
BEGIN:DAYLIGHT
TZOFFSETFROM:+0100
TZOFFSETTO:+0200
TZNAME:CEST
DTSTART:20220327T010000
END:DAYLIGHT
BEGIN:STANDARD
TZOFFSETFROM:+0200
TZOFFSETTO:+0100
TZNAME:CET
DTSTART:20221030T010000
END:STANDARD
BEGIN:DAYLIGHT
TZOFFSETFROM:+0100
TZOFFSETTO:+0200
TZNAME:CEST
DTSTART:20230326T010000
END:DAYLIGHT
BEGIN:STANDARD
TZOFFSETFROM:+0200
TZOFFSETTO:+0100
TZNAME:CET
DTSTART:20231029T010000
END:STANDARD
BEGIN:DAYLIGHT
TZOFFSETFROM:+0100
TZOFFSETTO:+0200
TZNAME:CEST
DTSTART:20240331T010000
END:DAYLIGHT
BEGIN:STANDARD
TZOFFSETFROM:+0200
TZOFFSETTO:+0100
TZNAME:CET
DTSTART:20241027T010000
END:STANDARD
END:VTIMEZONE
BEGIN:VEVENT
DTSTART;TZID=Europe/Berlin:20230716T100000
DTEND;TZID=Europe/Berlin:20230716T170000
DTSTAMP:20260425T175642
CREATED:20230704T072103Z
LAST-MODIFIED:20230704T072103Z
UID:596-1689501600-1689526800@rehkitzrettung-rhein-neckar.de
SUMMARY:Straße der Tiere - Infostand
DESCRIPTION:Der VSEH – Verein zum Schutz und Erhalt alter und gefährdeter Haustierrassen e.V. hat uns eingeladen dieses Jahr bei seiner großen Infoveranstaltung teilzunehmen! \nWir werden die tolle Veranstaltung daher mit unserem Stand bereichern und mit Fachwissen rund um das Rehwild unterstützen – wir freuen uns darauf und sind schon sehr gespannt\, was es alles über alte Haustierrassen zu lernen und zu Sehen gibt! \n  \n 
URL:http://rehkitzrettung-rhein-neckar.de/event/strasse-der-tiere-infostand/
LOCATION:Epfenbach\, Waldstraße\, Epfenbach\, 74925
CATEGORIES:Verein
ATTACH;FMTTYPE=image/jpeg:http://rehkitzrettung-rhein-neckar.de/wp-content/uploads/2023/07/Strasse_2023_hoch.jpg
END:VEVENT
END:VCALENDAR