BEGIN:VCALENDAR
VERSION:2.0
PRODID:-//Rehkitzrettung Rhein-Neckar - ECPv6.15.20//NONSGML v1.0//EN
CALSCALE:GREGORIAN
METHOD:PUBLISH
X-ORIGINAL-URL:http://rehkitzrettung-rhein-neckar.de
X-WR-CALDESC:Veranstaltungen für Rehkitzrettung Rhein-Neckar
REFRESH-INTERVAL;VALUE=DURATION:PT1H
X-Robots-Tag:noindex
X-PUBLISHED-TTL:PT1H
BEGIN:VTIMEZONE
TZID:Europe/Berlin
BEGIN:DAYLIGHT
TZOFFSETFROM:+0100
TZOFFSETTO:+0200
TZNAME:CEST
DTSTART:20200329T010000
END:DAYLIGHT
BEGIN:STANDARD
TZOFFSETFROM:+0200
TZOFFSETTO:+0100
TZNAME:CET
DTSTART:20201025T010000
END:STANDARD
BEGIN:DAYLIGHT
TZOFFSETFROM:+0100
TZOFFSETTO:+0200
TZNAME:CEST
DTSTART:20210328T010000
END:DAYLIGHT
BEGIN:STANDARD
TZOFFSETFROM:+0200
TZOFFSETTO:+0100
TZNAME:CET
DTSTART:20211031T010000
END:STANDARD
BEGIN:DAYLIGHT
TZOFFSETFROM:+0100
TZOFFSETTO:+0200
TZNAME:CEST
DTSTART:20220327T010000
END:DAYLIGHT
BEGIN:STANDARD
TZOFFSETFROM:+0200
TZOFFSETTO:+0100
TZNAME:CET
DTSTART:20221030T010000
END:STANDARD
END:VTIMEZONE
BEGIN:VEVENT
DTSTART;TZID=Europe/Berlin:20210724T170000
DTEND;TZID=Europe/Berlin:20210724T210000
DTSTAMP:20260421T121011
CREATED:20210721T111819Z
LAST-MODIFIED:20210721T112122Z
UID:358-1627146000-1627160400@rehkitzrettung-rhein-neckar.de
SUMMARY:Helferfest 2021
DESCRIPTION:Wir laden unsere aktiven Mitglieder recht herzlich zum diesjährigen Helferfest auf die Kollerinsel ein! \nWann? Samstag\, 24.07.2021 um 17.00 Uhr\nWo? Pferdeland und Restaurant Kollerinsel\, Kollerhof 1\, 67166 Otterstadt\, www.kollerinsel-pferdeland.de  \nZu Essen gibt es ein Kalt-Warmes Buffet\, selbstverständlich ist auch etwas vegetarisches dabei. \nFür alle aktiven Helfer ist das Buffet und das erste Getränk kostenfrei\, d.h. der Verein übernimmt die Rechnung. \nSelbstverständlich kann jeder auch seinen Partner/in oder Familie mitbringen\, auch unsere Fördermitglieder sind dazu recht herzlich eingeladen. Alle „Nicht-Aktiven“ Teilnehmer essen dann auf eigene Rechnung\, das Buffet kostet 30 €/Person. Damit das Restaurant dementsprechend planen kann\, bitte ich um zeitnahe\, verbindliche Anmeldung der Teilnehmer\, spätestens jedoch bis Montag\, den 19.07.21
URL:http://rehkitzrettung-rhein-neckar.de/event/helferfest-2021/
CATEGORIES:Helfer,Verein
ORGANIZER;CN="Rehkitzrettung Rhein-Neckar":MAILTO:info@rehkitzrettung-rhein-neckar.de
END:VEVENT
END:VCALENDAR